BEGIN:VCALENDAR
VERSION:2.0
PRODID:-//wp-events-plugin.com//7.2.3.1//EN
TZID:Asia/Jakarta
X-WR-TIMEZONE:Asia/Jakarta
BEGIN:VEVENT
UID:132@gelaran.id
DTSTART;TZID=Asia/Jakarta:20240820T200000
DTEND;TZID=Asia/Jakarta:20240820T220000
DTSTAMP:20240818T164535Z
URL:https://gelaran.id/Acara/kethoprak-ampak-ampak-pringgalaya/
SUMMARY:Kethoprak | Ampak-Ampak Pringgalaya
DESCRIPTION:Komunitas Rumah Seni Kalanadah masih bersama Patih Pringgalaya 
 akan kembali menyelenggarakan pementasan di Kampung Pringgolayan. Kali ini
 \, Patih Pringgalaya akan "hadir" dalam bentuk garap yang berbeda\, yakni 
 kethoprak menggunakan iringan musik tretek berkolaborasi dengan warga kamp
 ung Pringgolayan (Kelompok musik bambu Pringgolaras).\n\nKethoprak Tretek\
 n"AMPAK-AMPAK PRINGGALAYA”\n\nSUTRADARA Ahmad Anwar "Aan Kenthut"\n\nNAS
 KAH Dwiha Kuncoro\n\nPEMAIN S. Tardjo\, Aan Kenthut\, Yona Restu\, Dody Re
 ndra\, Dini Octavia\, Dody Eskha\, Dimas Suro\, Lilik\, Evi\, Kalpika\n\nM
 USIC DIRECTOR Aldi Nazadit\n\nPEMUSIK Sugiyarto\, Robi Yastoro\, Sarino\, 
 Cak Pram\, Darmadi Blegur\, Thomas\, Yahya\,Yanto Pletot\, Yanto Gareng\, 
 Rebeca\, Sinta\n\nART DIRECTOR Nova Sasmita\n\nLIGHTING DESIGNER Bagus Aku
 r\n\nVIDEOGRAFER &amp\; DESAIN Firza Kharisva\n\nMAKE UP &amp\; KOSTUM Yon
 a\,\nMonica Magdhalena\n\nTIM PRODUKSI\nPerlengkapan :Aurel Putra\nHumas &
 amp\; Media Partner : Rizka Amalia\nRunner : M. Ryan\, Odik Feri\nKonsumsi
  : Erna\, Monik\n\nSelasa Wage\, 20 Agustus 2024\nPukul 20.00 WIB - selesa
 i\nGedung Pertemuan Kelurahan Tipes Surakarta\n\n
ATTACH;FMTTYPE=image/jpeg:https://i0.wp.com/gelaran.id/wp-content/uploads/
 2024/08/Poster-Ampak-Ampak-pringgalaya.png?fit=1587%2C2245&ssl=1
CATEGORIES:seni tradisi,Teater
LOCATION:Gedung Pertemuan Kelurahan Tipes\, Desa Tipes\, Surakarta\, Jawa T
 engah\, Indonesia
X-APPLE-STRUCTURED-LOCATION;VALUE=URI;X-ADDRESS=Desa Tipes\, Surakarta\, Ja
 wa Tengah\, Indonesia;X-APPLE-RADIUS=100;X-TITLE=Gedung Pertemuan Keluraha
 n Tipes:geo:0,0
END:VEVENT
BEGIN:VTIMEZONE
TZID:Asia/Jakarta
X-LIC-LOCATION:Asia/Jakarta
BEGIN:STANDARD
DTSTART:20230821T200000
TZOFFSETFROM:+0700
TZOFFSETTO:+0700
TZNAME:WIB
END:STANDARD
END:VTIMEZONE
END:VCALENDAR