BEGIN:VCALENDAR
VERSION:2.0
PRODID:-//wp-events-plugin.com//7.2.3.1//EN
TZID:Asia/Jakarta
X-WR-TIMEZONE:Asia/Jakarta
BEGIN:VEVENT
UID:148@gelaran.id
DTSTART;TZID=Asia/Jakarta:20241227T193000
DTEND;TZID=Asia/Jakarta:20241227T210000
DTSTAMP:20241223T165713Z
URL:https://gelaran.id/Acara/gmt-jogjadrama-si-merak-lan-angin-dalu/
SUMMARY:GMT Jogjadrama | Si Merak lan Angin Dalu
DESCRIPTION:Sudah bulan kelima sejak karya sederhana ini dipertontonkan per
 tama di Bantul... Lalu bergerak ke Magelang\, Semarang\, Temanggung dan Pu
 rworejo...\nKini "SI MERAK LAN ANGIN DALU" akan main tandang ke kota Kudus
 ...\n\nYuk mari... bertemu kita di 27 Desember malam sekira pukul 19.30 WI
 B di Rumah Khalwat BALAI BUDAYA REJOSARI.\n\nSi Merak lan Angin Dalu dalah
  karya drama berbahasa Jawa yang diadaptasi dari "Nyanyian Angsa" yang jug
 a merupakan terjemahan dari karya Anton Chekhov (Rusia).\n\nDimainkan oleh
 \nDinarto Marandi @odon_saridon dan Arief Gogon @rief_gogon dan disutradar
 i @ahmad_jalidu\n\nGMT Jogjadrama diberdayakan oleh Adisukma Inisiatif\, d
 idukung oleh @bukugarudhawaca @bunjari_konveksi @balaibudayamino @gelaran.
 id dan @radiobbm\nDifasilitasi oleh @rk.bbr dan dukungan saweran kalian se
 mua...\n
ATTACH;FMTTYPE=image/jpeg:https://i0.wp.com/gelaran.id/wp-content/uploads/
 2024/12/7.png?fit=1080%2C1080&ssl=1
CATEGORIES:Teater
LOCATION:Rumah Klahwat Balai Budaya Rejosari\, Rejosari\, Kec. Dawe\, Kudus
 \, Jawa Tengah\, Indonesia
X-APPLE-STRUCTURED-LOCATION;VALUE=URI;X-ADDRESS=Rejosari\, Kec. Dawe\, Kudu
 s\, Jawa Tengah\, Indonesia;X-APPLE-RADIUS=100;X-TITLE=Rumah Klahwat Balai
  Budaya Rejosari:geo:0,0
END:VEVENT
BEGIN:VTIMEZONE
TZID:Asia/Jakarta
X-LIC-LOCATION:Asia/Jakarta
BEGIN:STANDARD
DTSTART:20231228T193000
TZOFFSETFROM:+0700
TZOFFSETTO:+0700
TZNAME:WIB
END:STANDARD
END:VTIMEZONE
END:VCALENDAR